BEGIN:VCALENDAR
VERSION:2.0
PRODID:-//SCOTUSblog - ECPv6.15.4//NONSGML v1.0//EN
CALSCALE:GREGORIAN
METHOD:PUBLISH
X-WR-CALNAME:SCOTUSblog
X-ORIGINAL-URL:https://www.scotusblog.com
X-WR-CALDESC:Events for SCOTUSblog
REFRESH-INTERVAL;VALUE=DURATION:PT1H
X-Robots-Tag:noindex
X-PUBLISHED-TTL:PT1H
BEGIN:VTIMEZONE
TZID:America/New_York
BEGIN:DAYLIGHT
TZOFFSETFROM:-0500
TZOFFSETTO:-0400
TZNAME:EDT
DTSTART:20260308T070000
END:DAYLIGHT
BEGIN:STANDARD
TZOFFSETFROM:-0400
TZOFFSETTO:-0500
TZNAME:EST
DTSTART:20261101T060000
END:STANDARD
END:VTIMEZONE
BEGIN:VEVENT
DTSTART;TZID=America/New_York:20260604T080000
DTEND;TZID=America/New_York:20260604T170000
DTSTAMP:20260421T142651
CREATED:20251219T210426Z
LAST-MODIFIED:20251219T210426Z
UID:10000166-1780560000-1780592400@www.scotusblog.com
SUMMARY:Conference
DESCRIPTION:
URL:https://www.scotusblog.com/event/conference-24/
CATEGORIES:Conferences
END:VEVENT
BEGIN:VEVENT
DTSTART;TZID=America/New_York:20260611T080000
DTEND;TZID=America/New_York:20260611T170000
DTSTAMP:20260421T142651
CREATED:20251219T210514Z
LAST-MODIFIED:20251219T210514Z
UID:10000167-1781164800-1781197200@www.scotusblog.com
SUMMARY:Conference
DESCRIPTION:
URL:https://www.scotusblog.com/event/conference-25/
CATEGORIES:Conferences
END:VEVENT
BEGIN:VEVENT
DTSTART;TZID=America/New_York:20260618T080000
DTEND;TZID=America/New_York:20260618T170000
DTSTAMP:20260421T142651
CREATED:20251219T210535Z
LAST-MODIFIED:20251219T210535Z
UID:10000168-1781769600-1781802000@www.scotusblog.com
SUMMARY:Conference
DESCRIPTION:
URL:https://www.scotusblog.com/event/conference-26/
CATEGORIES:Conferences
END:VEVENT
BEGIN:VEVENT
DTSTART;TZID=America/New_York:20260625T080000
DTEND;TZID=America/New_York:20260625T170000
DTSTAMP:20260421T142651
CREATED:20251219T210557Z
LAST-MODIFIED:20251219T210557Z
UID:10000169-1782374400-1782406800@www.scotusblog.com
SUMMARY:Conference
DESCRIPTION:
URL:https://www.scotusblog.com/event/conference-27/
CATEGORIES:Conferences
END:VEVENT
END:VCALENDAR