BEGIN:VCALENDAR
VERSION:2.0
PRODID:-//SCOTUSblog - ECPv6.15.4//NONSGML v1.0//EN
CALSCALE:GREGORIAN
METHOD:PUBLISH
X-ORIGINAL-URL:https://www.scotusblog.com
X-WR-CALDESC:Events for SCOTUSblog
REFRESH-INTERVAL;VALUE=DURATION:PT1H
X-Robots-Tag:noindex
X-PUBLISHED-TTL:PT1H
BEGIN:VTIMEZONE
TZID:America/New_York
BEGIN:DAYLIGHT
TZOFFSETFROM:-0500
TZOFFSETTO:-0400
TZNAME:EDT
DTSTART:20260308T070000
END:DAYLIGHT
BEGIN:STANDARD
TZOFFSETFROM:-0400
TZOFFSETTO:-0500
TZNAME:EST
DTSTART:20261101T060000
END:STANDARD
END:VTIMEZONE
BEGIN:VEVENT
DTSTART;TZID=America/New_York:20260501T080000
DTEND;TZID=America/New_York:20260501T170000
DTSTAMP:20260421T144359
CREATED:20251219T194039Z
LAST-MODIFIED:20251219T194039Z
UID:10000153-1777622400-1777654800@www.scotusblog.com
SUMMARY:Conference
DESCRIPTION:
URL:https://www.scotusblog.com/event/conference-20/
CATEGORIES:Conferences
END:VEVENT
BEGIN:VEVENT
DTSTART;TZID=America/New_York:20260514T080000
DTEND;TZID=America/New_York:20260514T170000
DTSTAMP:20260421T144359
CREATED:20251219T205650Z
LAST-MODIFIED:20251219T205650Z
UID:10000155-1778745600-1778778000@www.scotusblog.com
SUMMARY:Conference
DESCRIPTION:
URL:https://www.scotusblog.com/event/conference-21/
CATEGORIES:Conferences
END:VEVENT
BEGIN:VEVENT
DTSTART;TZID=America/New_York:20260521T080000
DTEND;TZID=America/New_York:20260521T170000
DTSTAMP:20260421T144359
CREATED:20251219T205757Z
LAST-MODIFIED:20251219T205757Z
UID:10000157-1779350400-1779382800@www.scotusblog.com
SUMMARY:Conference
DESCRIPTION:
URL:https://www.scotusblog.com/event/conference-22/
CATEGORIES:Conferences
END:VEVENT
BEGIN:VEVENT
DTSTART;TZID=America/New_York:20260528T080000
DTEND;TZID=America/New_York:20260528T170000
DTSTAMP:20260421T144359
CREATED:20251219T210056Z
LAST-MODIFIED:20251219T210056Z
UID:10000160-1779955200-1779987600@www.scotusblog.com
SUMMARY:Conference
DESCRIPTION:
URL:https://www.scotusblog.com/event/conference-23/
CATEGORIES:Conferences
END:VEVENT
END:VCALENDAR